BEGIN:VCALENDAR
VERSION:2.0
CALSCALE:GREGORIAN
PRODID:adamgibbons/ics
METHOD:PUBLISH
X-PUBLISHED-TTL:PT1H
BEGIN:VEVENT
UID:799@torontol.askapunk.net
SUMMARY:TV Freaks / Strange Attractor / Slow Reader
DTSTAMP:20260425T150113Z
DTSTART:20260425T230000Z
URL:https://toronto.askapunk.net/event/tv-freaks-strange-attractor-slow-rea
	der
LOCATION:The Corktown - 175 Young Street Hamilton\, ON L8N 1V7
STATUS:CONFIRMED
CATEGORIES:Slow Reader,Strange Attractor,TV Freaks
END:VEVENT
END:VCALENDAR
